BEGIN:VCALENDAR
VERSION:2.0
PRODID:-//atmakine.com - ECPv6.15.20//NONSGML v1.0//EN
CALSCALE:GREGORIAN
METHOD:PUBLISH
X-ORIGINAL-URL:https://atmakine.com
X-WR-CALDESC:Eventos para atmakine.com
REFRESH-INTERVAL;VALUE=DURATION:PT1H
X-Robots-Tag:noindex
X-PUBLISHED-TTL:PT1H
BEGIN:VTIMEZONE
TZID:Europe/Madrid
BEGIN:DAYLIGHT
TZOFFSETFROM:+0100
TZOFFSETTO:+0200
TZNAME:CEST
DTSTART:20240331T010000
END:DAYLIGHT
BEGIN:STANDARD
TZOFFSETFROM:+0200
TZOFFSETTO:+0100
TZNAME:CET
DTSTART:20241027T010000
END:STANDARD
BEGIN:DAYLIGHT
TZOFFSETFROM:+0100
TZOFFSETTO:+0200
TZNAME:CEST
DTSTART:20250330T010000
END:DAYLIGHT
BEGIN:STANDARD
TZOFFSETFROM:+0200
TZOFFSETTO:+0100
TZNAME:CET
DTSTART:20251026T010000
END:STANDARD
BEGIN:DAYLIGHT
TZOFFSETFROM:+0100
TZOFFSETTO:+0200
TZNAME:CEST
DTSTART:20260329T010000
END:DAYLIGHT
BEGIN:STANDARD
TZOFFSETFROM:+0200
TZOFFSETTO:+0100
TZNAME:CET
DTSTART:20261025T010000
END:STANDARD
END:VTIMEZONE
BEGIN:VEVENT
DTSTART;TZID=Europe/Madrid:20250614T080000
DTEND;TZID=Europe/Madrid:20250614T200000
DTSTAMP:20260419T162906
CREATED:20250504T114149Z
LAST-MODIFIED:20250504T114149Z
UID:824-1749888000-1749931200@atmakine.com
SUMMARY:Curso: "Transformación\, Equilibrio y Bienestar Profundo con Medicina Tibetana y kinesiología"
DESCRIPTION:Transformación\, Equilibrio y Bienestar Profundo:\nSeminario de Medicina Tibetana y Kinesiología\nVer Curso\n¿Y si tu salud fuera el reflejo de un equilibrio profundo entre cuerpo\, mente y espíritu? \nEn este seminario vivencial\, combinamos la sabiduría milenaria de la Medicina Tibetana con la precisión de la Kinesiología Psicoenergética para ayudarte a liberar bloqueos\, armonizar tus chakras y transformar tu bienestar desde la raíz. \n🌿 Una experiencia transformadora\, preventiva y restaurativa. \nEl precio del curso incluye el manual del curso\, los desayunos\, breaks y las comidas de mediodía
URL:https://atmakine.com/evento/curso-energia-tibetana-2-2-2/
LOCATION:Barranc Belsés\, Orito\, Alicante\, Spain
ATTACH;FMTTYPE=image/jpeg:https://atmakine.com/wp-content/uploads/2024/10/energia-tibetana.jpg
ORGANIZER;CN="ASUN ESTEVE BOIX":MAILTO:info@atmakine.com
END:VEVENT
END:VCALENDAR